BEGIN:VCALENDAR
VERSION:2.0
PRODID:-//hacksw/handcal//NONSGML v1.0//EN
BEGIN:VEVENT
SUMMARY:Randonnee pedestre
UID:ab0d8443-0daf-40d4-ac94-1d57a3357cc0
DTSTART:20260424T080000Z
DTEND:20260424T150000Z
LOCATION:Localisation   
CATEGORIES:Sportif
STATUS:
DESCRIPTION:<p><span style="font-size:14px;">Randonnee de la
 journee.</span></p>
 
 <p><span style="font-size:14px;">Environ 20
 km</span></p>
 
 <p><span style="font-size:14px;">Rendez-vous a 10h00 a
 la <span style="font-family:'Univers Condensed Light',
 sans-serif;">salle polyvalente de
 Touffreville-la-Corbeline.</span></span></p>
 
 <p><span
 style="font-size:14px;"><span style="font-family:'Univers Condensed
 Light', sans-serif;">Repas tire du sac.</span></span></p>
 
 <p><span
 style="font-size:14px;"><span style="font-family:'Univers Condensed
 Light', sans-serif;">Contact de l'organisateur : <span
 style="color:#000000;">06-24-42-22-61</span></span></span></p>
 
 <p><span
 style="font-size:14px;"><span style="font-family:'Univers Condensed
 Light', sans-serif;"><span style="color:#000000;">Prendre contact
 avec l'organisateur si vous souhaitez
 participer</span></span></span></p>
URL;VALUE=URI:https://an-fecamp.sportsregions.fr/evenements/2026/04/24/randonnee-pedestre-2437124
END:VEVENT
END:VCALENDAR
