BEGIN:VCALENDAR
VERSION:2.0
PRODID:-//hacksw/handcal//NONSGML v1.0//EN
BEGIN:VEVENT
SUMMARY:Visite et randonnee
UID:a4f079ac-8070-47bb-b583-f4c912ae9a2b
DTSTART:20260417T070000Z
DTEND:20260417T150000Z
LOCATION:Localisation clos tiger  beaumontel
CATEGORIES:Sportif
STATUS:
DESCRIPTION:<p class="Dates"><span style="font-size:11pt;"><span
 style="font-family:'Univers Condensed Light', sans-serif;"><span
 style="font-weight:bold;"><span style="font-weight:normal;">Le matin
 visite du musee de l’Ecorche au Neubourg
 </span></span></span></span></p>
 
 <p><span
 style="font-size:11pt;"><span style="font-family:'Univers Condensed
 Light', sans-serif;">L’apres-midi
 randonnee</span></span></p>
 
 <p> </p>
URL;VALUE=URI:https://an-fecamp.sportsregions.fr/evenements/2026/04/17/visite-et-randonnee-2437119
END:VEVENT
END:VCALENDAR
